BEGIN:VCALENDAR
VERSION:2.0
PRODID:-//Nagyvárad belvárosi baptista gyülekezet - ECPv6.15.17.1//NONSGML v1.0//EN
CALSCALE:GREGORIAN
METHOD:PUBLISH
X-WR-CALNAME:Nagyvárad belvárosi baptista gyülekezet
X-ORIGINAL-URL:https://nvbgy.ro
X-WR-CALDESC:Események Nagyvárad belvárosi baptista gyülekezet
REFRESH-INTERVAL;VALUE=DURATION:PT1H
X-Robots-Tag:noindex
X-PUBLISHED-TTL:PT1H
BEGIN:VTIMEZONE
TZID:Europe/Bucharest
BEGIN:DAYLIGHT
TZOFFSETFROM:+0200
TZOFFSETTO:+0300
TZNAME:EEST
DTSTART:20230326T010000
END:DAYLIGHT
BEGIN:STANDARD
TZOFFSETFROM:+0300
TZOFFSETTO:+0200
TZNAME:EET
DTSTART:20231029T010000
END:STANDARD
BEGIN:DAYLIGHT
TZOFFSETFROM:+0200
TZOFFSETTO:+0300
TZNAME:EEST
DTSTART:20240331T010000
END:DAYLIGHT
BEGIN:STANDARD
TZOFFSETFROM:+0300
TZOFFSETTO:+0200
TZNAME:EET
DTSTART:20241027T010000
END:STANDARD
BEGIN:DAYLIGHT
TZOFFSETFROM:+0200
TZOFFSETTO:+0300
TZNAME:EEST
DTSTART:20250330T010000
END:DAYLIGHT
BEGIN:STANDARD
TZOFFSETFROM:+0300
TZOFFSETTO:+0200
TZNAME:EET
DTSTART:20251026T010000
END:STANDARD
END:VTIMEZONE
BEGIN:VEVENT
DTSTART;TZID=Europe/Bucharest:20240309T100000
DTEND;TZID=Europe/Bucharest:20240309T110000
DTSTAMP:20260425T042209
CREATED:20240121T052353Z
LAST-MODIFIED:20240125T015910Z
UID:10000005-1709978400-1709982000@nvbgy.ro
SUMMARY:Imaközösség az evangelizációért
DESCRIPTION:Imaközösség az evangelizációért
URL:https://nvbgy.ro/esemeny/imakozosseg-az-evangelizacioert/2024-03-09/
LOCATION:Gyülekezet\, Aleea Strandului nr. 10\, Oradea\, Románia
ATTACH;FMTTYPE=image/jpeg:https://nvbgy.ro/wp-content/uploads/2022/09/igehirdetesek_hatter1.jpg
END:VEVENT
BEGIN:VEVENT
DTSTART;TZID=Europe/Bucharest:20240310T180000
DTEND;TZID=Europe/Bucharest:20240315T200000
DTSTAMP:20260425T042209
CREATED:20240121T052445Z
LAST-MODIFIED:20240302T052731Z
UID:10000006-1710093600-1710532800@nvbgy.ro
SUMMARY:Evangelizációs hét
DESCRIPTION:Evangelizációs hét \nVasárnap 18:00 – igehirdető: Kis János\, Debrecen \nHétfő 18:30 – igehirdető: Tóth Attila\, Szászrégen \nKedd 18:30 – Szerda – igehirdető: Sipos Márk\, Szeged \nCsütörtök 18:30 – Péntek – igehirdető: Uzonyi Barnabás\, Pécel \nSzombat 18:30 – nincs alkalom \nVasárnap 18:00 – Simon József
URL:https://nvbgy.ro/esemeny/evangelizacios-het/
LOCATION:Gyülekezet\, Aleea Strandului nr. 10\, Oradea\, Románia
ATTACH;FMTTYPE=image/jpeg:https://nvbgy.ro/wp-content/uploads/2024/02/uzonyi_b.jpg
END:VEVENT
BEGIN:VEVENT
DTSTART;TZID=Europe/Bucharest:20240316T080000
DTEND;TZID=Europe/Bucharest:20240316T170000
DTSTAMP:20260425T042209
CREATED:20240121T052353Z
LAST-MODIFIED:20240125T015910Z
UID:10000144-1710576000-1710608400@nvbgy.ro
SUMMARY:Imaközösség az evangelizációért
DESCRIPTION:Imaközösség az evangelizációért
URL:https://nvbgy.ro/esemeny/imakozosseg-az-evangelizacioert/2024-03-16/
LOCATION:Gyülekezet\, Aleea Strandului nr. 10\, Oradea\, Románia
ATTACH;FMTTYPE=image/jpeg:https://nvbgy.ro/wp-content/uploads/2022/09/igehirdetesek_hatter1.jpg
END:VEVENT
BEGIN:VEVENT
DTSTART;TZID=Europe/Bucharest:20240317T180000
DTEND;TZID=Europe/Bucharest:20240317T200000
DTSTAMP:20260425T042209
CREATED:20240121T052604Z
LAST-MODIFIED:20240205T093538Z
UID:10000008-1710698400-1710705600@nvbgy.ro
SUMMARY:Evangelizációs hét – befejező alkalom
DESCRIPTION:Evangelizációs hét – befejező alkalom
URL:https://nvbgy.ro/esemeny/evangelizacios-het-befejezo-alkalom/
LOCATION:Gyülekezet\, Aleea Strandului nr. 10\, Oradea\, Románia
ATTACH;FMTTYPE=image/jpeg:https://nvbgy.ro/wp-content/uploads/2024/02/simon_j.jpg
END:VEVENT
BEGIN:VEVENT
DTSTART;VALUE=DATE:20240324
DTEND;VALUE=DATE:20240325
DTSTAMP:20260425T042209
CREATED:20240121T052718Z
LAST-MODIFIED:20240121T125544Z
UID:10000010-1711238400-1711324799@nvbgy.ro
SUMMARY:Virágvasárnap
DESCRIPTION:Virágvasárnap
URL:https://nvbgy.ro/esemeny/viragvasarnap/
LOCATION:Gyülekezet\, Aleea Strandului nr. 10\, Oradea\, Románia
ATTACH;FMTTYPE=image/jpeg:https://nvbgy.ro/wp-content/uploads/2024/01/gyulekezet_egyutt1-1.jpg
END:VEVENT
BEGIN:VEVENT
DTSTART;TZID=Europe/Bucharest:20240328T163000
DTEND;TZID=Europe/Bucharest:20240328T210000
DTSTAMP:20260425T042209
CREATED:20240123T094000Z
LAST-MODIFIED:20250218T063330Z
UID:10000086-1711643400-1711659600@nvbgy.ro
SUMMARY:Mozgáskorlátozottak délutánja a gyülekezetnél
DESCRIPTION:Mozgáskorlátozottak és gondozóik találkoznak beszélgetés\, imádkozás\, közösséggyakorlás céljából a gyülekezet körtermében.
URL:https://nvbgy.ro/esemeny/mozgaskorlatozottak-delutanja-a-gyulekezetnel/2024-03-28/
LOCATION:Gyülekezet\, Aleea Strandului nr. 10\, Oradea\, Románia
ATTACH;FMTTYPE=image/jpeg:https://nvbgy.ro/wp-content/uploads/2024/01/mozgasserultek1.jpg
END:VEVENT
BEGIN:VEVENT
DTSTART;VALUE=DATE:20240329
DTEND;VALUE=DATE:20240330
DTSTAMP:20260425T042209
CREATED:20240121T052811Z
LAST-MODIFIED:20240121T125609Z
UID:10000011-1711670400-1711756799@nvbgy.ro
SUMMARY:Nagypéntek
DESCRIPTION:Nagypéntek
URL:https://nvbgy.ro/esemeny/nagypentek/
LOCATION:Gyülekezet\, Aleea Strandului nr. 10\, Oradea\, Románia
ATTACH;FMTTYPE=image/jpeg:https://nvbgy.ro/wp-content/uploads/2024/01/gyulekezet_egyutt1.jpg
END:VEVENT
BEGIN:VEVENT
DTSTART;TZID=Europe/Bucharest:20240331T100000
DTEND;TZID=Europe/Bucharest:20240401T123000
DTSTAMP:20260425T042209
CREATED:20240121T052850Z
LAST-MODIFIED:20240121T125820Z
UID:10000012-1711879200-1711974600@nvbgy.ro
SUMMARY:Húsvét
DESCRIPTION:Húsvét
URL:https://nvbgy.ro/esemeny/husvet/
LOCATION:Gyülekezet\, Aleea Strandului nr. 10\, Oradea\, Románia
ATTACH;FMTTYPE=image/jpeg:https://nvbgy.ro/wp-content/uploads/2024/01/gyulekezet_egyutt1-1.jpg
END:VEVENT
END:VCALENDAR