BEGIN:VCALENDAR
VERSION:2.0
PRODID:-//Nagyvárad belvárosi baptista gyülekezet - ECPv6.15.17.1//NONSGML v1.0//EN
CALSCALE:GREGORIAN
METHOD:PUBLISH
X-ORIGINAL-URL:https://nvbgy.ro
X-WR-CALDESC:Események Nagyvárad belvárosi baptista gyülekezet
REFRESH-INTERVAL;VALUE=DURATION:PT1H
X-Robots-Tag:noindex
X-PUBLISHED-TTL:PT1H
BEGIN:VTIMEZONE
TZID:Europe/Bucharest
BEGIN:DAYLIGHT
TZOFFSETFROM:+0200
TZOFFSETTO:+0300
TZNAME:EEST
DTSTART:20230326T010000
END:DAYLIGHT
BEGIN:STANDARD
TZOFFSETFROM:+0300
TZOFFSETTO:+0200
TZNAME:EET
DTSTART:20231029T010000
END:STANDARD
BEGIN:DAYLIGHT
TZOFFSETFROM:+0200
TZOFFSETTO:+0300
TZNAME:EEST
DTSTART:20240331T010000
END:DAYLIGHT
BEGIN:STANDARD
TZOFFSETFROM:+0300
TZOFFSETTO:+0200
TZNAME:EET
DTSTART:20241027T010000
END:STANDARD
BEGIN:DAYLIGHT
TZOFFSETFROM:+0200
TZOFFSETTO:+0300
TZNAME:EEST
DTSTART:20250330T010000
END:DAYLIGHT
BEGIN:STANDARD
TZOFFSETFROM:+0300
TZOFFSETTO:+0200
TZNAME:EET
DTSTART:20251026T010000
END:STANDARD
END:VTIMEZONE
BEGIN:VEVENT
DTSTART;TZID=Europe/Bucharest:20240331T100000
DTEND;TZID=Europe/Bucharest:20240401T123000
DTSTAMP:20260425T023656
CREATED:20240121T052850Z
LAST-MODIFIED:20240121T125820Z
UID:10000012-1711879200-1711974600@nvbgy.ro
SUMMARY:Húsvét
DESCRIPTION:Húsvét
URL:https://nvbgy.ro/esemeny/husvet/
LOCATION:Gyülekezet\, Aleea Strandului nr. 10\, Oradea\, Románia
ATTACH;FMTTYPE=image/jpeg:https://nvbgy.ro/wp-content/uploads/2024/01/gyulekezet_egyutt1-1.jpg
END:VEVENT
BEGIN:VEVENT
DTSTART;TZID=Europe/Bucharest:20240425T080000
DTEND;TZID=Europe/Bucharest:20240426T170000
DTSTAMP:20260425T023656
CREATED:20240209T092651Z
LAST-MODIFIED:20240209T092651Z
UID:10000146-1714032000-1714150800@nvbgy.ro
SUMMARY:Iván Barna Ifjúság
DESCRIPTION:Iván Barna Ifjúság
URL:https://nvbgy.ro/esemeny/ivan-barna-ifjusag/
LOCATION:Gyülekezet\, Aleea Strandului nr. 10\, Oradea\, Románia
ATTACH;FMTTYPE=image/png:https://nvbgy.ro/wp-content/uploads/2024/02/varadifi.png
END:VEVENT
BEGIN:VEVENT
DTSTART;TZID=Europe/Bucharest:20240425T163000
DTEND;TZID=Europe/Bucharest:20240425T210000
DTSTAMP:20260425T023656
CREATED:20240123T094000Z
LAST-MODIFIED:20250218T063330Z
UID:10000183-1714062600-1714078800@nvbgy.ro
SUMMARY:Mozgáskorlátozottak délutánja a gyülekezetnél
DESCRIPTION:Mozgáskorlátozottak és gondozóik találkoznak beszélgetés\, imádkozás\, közösséggyakorlás céljából a gyülekezet körtermében.
URL:https://nvbgy.ro/esemeny/mozgaskorlatozottak-delutanja-a-gyulekezetnel/2024-04-25/
LOCATION:Gyülekezet\, Aleea Strandului nr. 10\, Oradea\, Románia
ATTACH;FMTTYPE=image/jpeg:https://nvbgy.ro/wp-content/uploads/2024/01/mozgasserultek1.jpg
END:VEVENT
END:VCALENDAR