BEGIN:VCALENDAR
VERSION:2.0
PRODID:-//Nagyvárad belvárosi baptista gyülekezet - ECPv6.15.17.1//NONSGML v1.0//EN
CALSCALE:GREGORIAN
METHOD:PUBLISH
X-WR-CALNAME:Nagyvárad belvárosi baptista gyülekezet
X-ORIGINAL-URL:https://nvbgy.ro
X-WR-CALDESC:Események Nagyvárad belvárosi baptista gyülekezet
REFRESH-INTERVAL;VALUE=DURATION:PT1H
X-Robots-Tag:noindex
X-PUBLISHED-TTL:PT1H
BEGIN:VTIMEZONE
TZID:Europe/Bucharest
BEGIN:DAYLIGHT
TZOFFSETFROM:+0200
TZOFFSETTO:+0300
TZNAME:EEST
DTSTART:20230326T010000
END:DAYLIGHT
BEGIN:STANDARD
TZOFFSETFROM:+0300
TZOFFSETTO:+0200
TZNAME:EET
DTSTART:20231029T010000
END:STANDARD
BEGIN:DAYLIGHT
TZOFFSETFROM:+0200
TZOFFSETTO:+0300
TZNAME:EEST
DTSTART:20240331T010000
END:DAYLIGHT
BEGIN:STANDARD
TZOFFSETFROM:+0300
TZOFFSETTO:+0200
TZNAME:EET
DTSTART:20241027T010000
END:STANDARD
BEGIN:DAYLIGHT
TZOFFSETFROM:+0200
TZOFFSETTO:+0300
TZNAME:EEST
DTSTART:20250330T010000
END:DAYLIGHT
BEGIN:STANDARD
TZOFFSETFROM:+0300
TZOFFSETTO:+0200
TZNAME:EET
DTSTART:20251026T010000
END:STANDARD
END:VTIMEZONE
BEGIN:VEVENT
DTSTART;TZID=Europe/Bucharest:20240517T100000
DTEND;TZID=Europe/Bucharest:20240518T210000
DTSTAMP:20260425T005300
CREATED:20240121T053035Z
LAST-MODIFIED:20240121T125642Z
UID:10000013-1715940000-1716066000@nvbgy.ro
SUMMARY:Hajdúszoboszlói hétvége házaspároknak
DESCRIPTION:Hajdúszoboszlói hétvége házaspároknak
URL:https://nvbgy.ro/esemeny/hajduszoboszloi-hetvege-hazasparoknak/
LOCATION:Hajdúszoboszló\, Hajdúszoboszló\, Magyarország
ATTACH;FMTTYPE=image/jpeg:https://nvbgy.ro/wp-content/uploads/2022/09/igehirdetesek_hatter1.jpg
END:VEVENT
BEGIN:VEVENT
DTSTART;TZID=Europe/Bucharest:20240519T100000
DTEND;TZID=Europe/Bucharest:20240520T200000
DTSTAMP:20260425T005300
CREATED:20240121T053121Z
LAST-MODIFIED:20240121T125731Z
UID:10000014-1716112800-1716235200@nvbgy.ro
SUMMARY:Pünkösd
DESCRIPTION:Pünkösd
URL:https://nvbgy.ro/esemeny/punkosd/
LOCATION:Gyülekezet\, Aleea Strandului nr. 10\, Oradea\, Románia
ATTACH;FMTTYPE=image/jpeg:https://nvbgy.ro/wp-content/uploads/2024/01/gyulekezet_egyutt1-1.jpg
END:VEVENT
BEGIN:VEVENT
DTSTART;TZID=Europe/Bucharest:20240523T163000
DTEND;TZID=Europe/Bucharest:20240523T210000
DTSTAMP:20260425T005300
CREATED:20240123T094000Z
LAST-MODIFIED:20250218T063330Z
UID:10000088-1716481800-1716498000@nvbgy.ro
SUMMARY:Mozgáskorlátozottak délutánja a gyülekezetnél
DESCRIPTION:Mozgáskorlátozottak és gondozóik találkoznak beszélgetés\, imádkozás\, közösséggyakorlás céljából a gyülekezet körtermében.
URL:https://nvbgy.ro/esemeny/mozgaskorlatozottak-delutanja-a-gyulekezetnel/2024-05-23/
LOCATION:Gyülekezet\, Aleea Strandului nr. 10\, Oradea\, Románia
ATTACH;FMTTYPE=image/jpeg:https://nvbgy.ro/wp-content/uploads/2024/01/mozgasserultek1.jpg
END:VEVENT
BEGIN:VEVENT
DTSTART;TZID=Europe/Bucharest:20240527T100000
DTEND;TZID=Europe/Bucharest:20240527T140000
DTSTAMP:20260425T005300
CREATED:20240121T053210Z
LAST-MODIFIED:20240514T165404Z
UID:10000015-1716804000-1716818400@nvbgy.ro
SUMMARY:Missziókerületi női csendesnap
DESCRIPTION:Missziókerületi női csendesnap
URL:https://nvbgy.ro/esemeny/missziokeruleti-noi-csendesnap/
LOCATION:Gyülekezet\, Aleea Strandului nr. 10\, Oradea\, Románia
ATTACH;FMTTYPE=image/jpeg:https://nvbgy.ro/wp-content/uploads/2024/01/4.jpg
END:VEVENT
END:VCALENDAR