BEGIN:VCALENDAR
VERSION:2.0
PRODID:-//Nagyvárad belvárosi baptista gyülekezet - ECPv6.15.17.1//NONSGML v1.0//EN
CALSCALE:GREGORIAN
METHOD:PUBLISH
X-ORIGINAL-URL:https://nvbgy.ro
X-WR-CALDESC:Események Nagyvárad belvárosi baptista gyülekezet
REFRESH-INTERVAL;VALUE=DURATION:PT1H
X-Robots-Tag:noindex
X-PUBLISHED-TTL:PT1H
BEGIN:VTIMEZONE
TZID:Europe/Bucharest
BEGIN:DAYLIGHT
TZOFFSETFROM:+0200
TZOFFSETTO:+0300
TZNAME:EEST
DTSTART:20230326T010000
END:DAYLIGHT
BEGIN:STANDARD
TZOFFSETFROM:+0300
TZOFFSETTO:+0200
TZNAME:EET
DTSTART:20231029T010000
END:STANDARD
BEGIN:DAYLIGHT
TZOFFSETFROM:+0200
TZOFFSETTO:+0300
TZNAME:EEST
DTSTART:20240331T010000
END:DAYLIGHT
BEGIN:STANDARD
TZOFFSETFROM:+0300
TZOFFSETTO:+0200
TZNAME:EET
DTSTART:20241027T010000
END:STANDARD
BEGIN:DAYLIGHT
TZOFFSETFROM:+0200
TZOFFSETTO:+0300
TZNAME:EEST
DTSTART:20250330T010000
END:DAYLIGHT
BEGIN:STANDARD
TZOFFSETFROM:+0300
TZOFFSETTO:+0200
TZNAME:EET
DTSTART:20251026T010000
END:STANDARD
END:VTIMEZONE
BEGIN:VEVENT
DTSTART;TZID=Europe/Bucharest:20240805T100000
DTEND;TZID=Europe/Bucharest:20240810T203000
DTSTAMP:20260424T190006
CREATED:20240121T053321Z
LAST-MODIFIED:20240122T170046Z
UID:10000017-1722852000-1723321800@nvbgy.ro
SUMMARY:Gyermektábor Sólyomkőváron
DESCRIPTION:Gyermektábor Sólyomkőváron
URL:https://nvbgy.ro/esemeny/gyermektabor-solyomkovaron/
LOCATION:Sólyomkővári tábor\, Sólyomkővári Baptista Tábor\, Sólyomkővár\, Románia
ATTACH;FMTTYPE=image/jpeg:https://nvbgy.ro/wp-content/uploads/2024/01/solyomkovar.jpg
END:VEVENT
BEGIN:VEVENT
DTSTART;TZID=Europe/Bucharest:20240822T163000
DTEND;TZID=Europe/Bucharest:20240822T210000
DTSTAMP:20260424T190006
CREATED:20240123T094000Z
LAST-MODIFIED:20250218T063330Z
UID:10000091-1724344200-1724360400@nvbgy.ro
SUMMARY:Mozgáskorlátozottak délutánja a gyülekezetnél
DESCRIPTION:Mozgáskorlátozottak és gondozóik találkoznak beszélgetés\, imádkozás\, közösséggyakorlás céljából a gyülekezet körtermében.
URL:https://nvbgy.ro/esemeny/mozgaskorlatozottak-delutanja-a-gyulekezetnel/2024-08-22/
LOCATION:Gyülekezet\, Aleea Strandului nr. 10\, Oradea\, Románia
ATTACH;FMTTYPE=image/jpeg:https://nvbgy.ro/wp-content/uploads/2024/01/mozgasserultek1.jpg
END:VEVENT
END:VCALENDAR