BEGIN:VCALENDAR
VERSION:2.0
PRODID:-//Nagyvárad belvárosi baptista gyülekezet - ECPv6.15.17.1//NONSGML v1.0//EN
CALSCALE:GREGORIAN
METHOD:PUBLISH
X-ORIGINAL-URL:https://nvbgy.ro
X-WR-CALDESC:Események Nagyvárad belvárosi baptista gyülekezet
REFRESH-INTERVAL;VALUE=DURATION:PT1H
X-Robots-Tag:noindex
X-PUBLISHED-TTL:PT1H
BEGIN:VTIMEZONE
TZID:Europe/Bucharest
BEGIN:DAYLIGHT
TZOFFSETFROM:+0200
TZOFFSETTO:+0300
TZNAME:EEST
DTSTART:20230326T010000
END:DAYLIGHT
BEGIN:STANDARD
TZOFFSETFROM:+0300
TZOFFSETTO:+0200
TZNAME:EET
DTSTART:20231029T010000
END:STANDARD
BEGIN:DAYLIGHT
TZOFFSETFROM:+0200
TZOFFSETTO:+0300
TZNAME:EEST
DTSTART:20240331T010000
END:DAYLIGHT
BEGIN:STANDARD
TZOFFSETFROM:+0300
TZOFFSETTO:+0200
TZNAME:EET
DTSTART:20241027T010000
END:STANDARD
BEGIN:DAYLIGHT
TZOFFSETFROM:+0200
TZOFFSETTO:+0300
TZNAME:EEST
DTSTART:20250330T010000
END:DAYLIGHT
BEGIN:STANDARD
TZOFFSETFROM:+0300
TZOFFSETTO:+0200
TZNAME:EET
DTSTART:20251026T010000
END:STANDARD
END:VTIMEZONE
BEGIN:VEVENT
DTSTART;TZID=Europe/Bucharest:20241103T100000
DTEND;TZID=Europe/Bucharest:20241103T170000
DTSTAMP:20260424T133355
CREATED:20240531T075635Z
LAST-MODIFIED:20240531T075635Z
UID:10000152-1730628000-1730653200@nvbgy.ro
SUMMARY:Világimanap a rogériuszi testvérnőknél
DESCRIPTION:Világimanap a rogériuszi testvérnőknél
URL:https://nvbgy.ro/esemeny/vilagimanap-a-rogeriuszi-testvernoknel/
ATTACH;FMTTYPE=image/jpeg:https://nvbgy.ro/wp-content/uploads/2022/09/igehirdetesek_hatter1.jpg
END:VEVENT
BEGIN:VEVENT
DTSTART;TZID=Europe/Bucharest:20241103T180000
DTEND;TZID=Europe/Bucharest:20241103T200000
DTSTAMP:20260424T133355
CREATED:20240123T094133Z
LAST-MODIFIED:20240904T061252Z
UID:10000084-1730656800-1730664000@nvbgy.ro
SUMMARY:Zenés istentisztelet a gyülekezetben
DESCRIPTION:Zenés istentisztelet a gyülekezetben
URL:https://nvbgy.ro/esemeny/zenes-istentisztelet-a-gyulekezetben/
LOCATION:Gyülekezet\, Aleea Strandului nr. 10\, Oradea\, Románia
ATTACH;FMTTYPE=image/jpeg:https://nvbgy.ro/wp-content/uploads/2024/01/zenes_istentisztelet.jpg
END:VEVENT
BEGIN:VEVENT
DTSTART;TZID=Europe/Bucharest:20241109T100000
DTEND;TZID=Europe/Bucharest:20241109T143000
DTSTAMP:20260424T133355
CREATED:20240121T053436Z
LAST-MODIFIED:20240531T075254Z
UID:10000019-1731146400-1731162600@nvbgy.ro
SUMMARY:Missziókerületi női csendesnap
DESCRIPTION:Missziókerületi női csendesnap
URL:https://nvbgy.ro/esemeny/missziokeruleti-noi-csendesnap-2/
LOCATION:Gyülekezet\, Aleea Strandului nr. 10\, Oradea\, Románia
ATTACH;FMTTYPE=image/jpeg:https://nvbgy.ro/wp-content/uploads/2024/01/4.jpg
END:VEVENT
BEGIN:VEVENT
DTSTART;TZID=Europe/Bucharest:20241110T100000
DTEND;TZID=Europe/Bucharest:20241110T200000
DTSTAMP:20260424T133355
CREATED:20240904T061335Z
LAST-MODIFIED:20240904T061344Z
UID:10000158-1731232800-1731268800@nvbgy.ro
SUMMARY:Hálaadónap
DESCRIPTION:Hálaadónap
URL:https://nvbgy.ro/esemeny/halaadonap/
LOCATION:Gyülekezet\, Aleea Strandului nr. 10\, Oradea\, Románia
ATTACH;FMTTYPE=image/jpeg:https://nvbgy.ro/wp-content/uploads/2022/09/igehirdetesek_hatter1.jpg
END:VEVENT
BEGIN:VEVENT
DTSTART;TZID=Europe/Bucharest:20241112T100000
DTEND;TZID=Europe/Bucharest:20241114T170000
DTSTAMP:20260424T133355
CREATED:20240209T092932Z
LAST-MODIFIED:20240209T092932Z
UID:10000149-1731405600-1731603600@nvbgy.ro
SUMMARY:Ifievangelizáció Melath Attilával
DESCRIPTION:Ifievangelizáció Melath Attilával
URL:https://nvbgy.ro/esemeny/ifievangelizacio-melath-attilaval/
LOCATION:Gyülekezet\, Aleea Strandului nr. 10\, Oradea\, Románia
ATTACH;FMTTYPE=image/png:https://nvbgy.ro/wp-content/uploads/2024/02/varadifi.png
END:VEVENT
BEGIN:VEVENT
DTSTART;TZID=Europe/Bucharest:20241128T163000
DTEND;TZID=Europe/Bucharest:20241128T210000
DTSTAMP:20260424T133355
CREATED:20240123T094000Z
LAST-MODIFIED:20250218T063330Z
UID:10000094-1732811400-1732827600@nvbgy.ro
SUMMARY:Mozgáskorlátozottak délutánja a gyülekezetnél
DESCRIPTION:Mozgáskorlátozottak és gondozóik találkoznak beszélgetés\, imádkozás\, közösséggyakorlás céljából a gyülekezet körtermében.
URL:https://nvbgy.ro/esemeny/mozgaskorlatozottak-delutanja-a-gyulekezetnel/2024-11-28/
LOCATION:Gyülekezet\, Aleea Strandului nr. 10\, Oradea\, Románia
ATTACH;FMTTYPE=image/jpeg:https://nvbgy.ro/wp-content/uploads/2024/01/mozgasserultek1.jpg
END:VEVENT
END:VCALENDAR