BEGIN:VCALENDAR
VERSION:2.0
PRODID:-//Nagyvárad belvárosi baptista gyülekezet - ECPv6.15.17.1//NONSGML v1.0//EN
CALSCALE:GREGORIAN
METHOD:PUBLISH
X-WR-CALNAME:Nagyvárad belvárosi baptista gyülekezet
X-ORIGINAL-URL:https://nvbgy.ro
X-WR-CALDESC:Események Nagyvárad belvárosi baptista gyülekezet
REFRESH-INTERVAL;VALUE=DURATION:PT1H
X-Robots-Tag:noindex
X-PUBLISHED-TTL:PT1H
BEGIN:VTIMEZONE
TZID:Europe/Bucharest
BEGIN:DAYLIGHT
TZOFFSETFROM:+0200
TZOFFSETTO:+0300
TZNAME:EEST
DTSTART:20240331T010000
END:DAYLIGHT
BEGIN:STANDARD
TZOFFSETFROM:+0300
TZOFFSETTO:+0200
TZNAME:EET
DTSTART:20241027T010000
END:STANDARD
BEGIN:DAYLIGHT
TZOFFSETFROM:+0200
TZOFFSETTO:+0300
TZNAME:EEST
DTSTART:20250330T010000
END:DAYLIGHT
BEGIN:STANDARD
TZOFFSETFROM:+0300
TZOFFSETTO:+0200
TZNAME:EET
DTSTART:20251026T010000
END:STANDARD
BEGIN:DAYLIGHT
TZOFFSETFROM:+0200
TZOFFSETTO:+0300
TZNAME:EEST
DTSTART:20260329T010000
END:DAYLIGHT
BEGIN:STANDARD
TZOFFSETFROM:+0300
TZOFFSETTO:+0200
TZNAME:EET
DTSTART:20261025T010000
END:STANDARD
END:VTIMEZONE
BEGIN:VEVENT
DTSTART;TZID=Europe/Bucharest:20250302T100000
DTEND;TZID=Europe/Bucharest:20250302T200000
DTSTAMP:20260422T030020
CREATED:20250213T144317Z
LAST-MODIFIED:20250213T144317Z
UID:10000162-1740909600-1740945600@nvbgy.ro
SUMMARY:Idősek vasárnapja
DESCRIPTION:A gyülekezetünkhöz tartozó idős testvérek vasárnapja\, szeretetvendégséggel egybekötve
URL:https://nvbgy.ro/esemeny/idosek-vasarnapja/
LOCATION:Gyülekezet\, Aleea Strandului nr. 10\, Oradea\, Románia
ATTACH;FMTTYPE=image/jpeg:https://nvbgy.ro/wp-content/uploads/2022/09/igehirdetesek_hatter1.jpg
END:VEVENT
BEGIN:VEVENT
DTSTART;TZID=Europe/Bucharest:20250309T180000
DTEND;TZID=Europe/Bucharest:20250309T200000
DTSTAMP:20260422T030020
CREATED:20250213T144140Z
LAST-MODIFIED:20250303T183709Z
UID:10000161-1741543200-1741550400@nvbgy.ro
SUMMARY:Evangélizáció
DESCRIPTION:Evangélizáció a gyülekezetben
URL:https://nvbgy.ro/esemeny/evangelizacio/
LOCATION:Gyülekezet\, Aleea Strandului nr. 10\, Oradea\, Románia
ATTACH;FMTTYPE=image/jpeg:https://nvbgy.ro/wp-content/uploads/2022/09/igehirdetesek_hatter1.jpg
END:VEVENT
BEGIN:VEVENT
DTSTART;TZID=Europe/Bucharest:20250310T183000
DTEND;TZID=Europe/Bucharest:20250310T200000
DTSTAMP:20260422T030020
CREATED:20250303T184306Z
LAST-MODIFIED:20250303T184306Z
UID:10000569-1741631400-1741636800@nvbgy.ro
SUMMARY:Evangélizáció
DESCRIPTION:Evangélizáció a gyülekezetben
URL:https://nvbgy.ro/esemeny/evangelizacio-2/2025-03-10/
ATTACH;FMTTYPE=image/jpeg:https://nvbgy.ro/wp-content/uploads/2022/09/igehirdetesek_hatter1.jpg
END:VEVENT
BEGIN:VEVENT
DTSTART;TZID=Europe/Bucharest:20250311T183000
DTEND;TZID=Europe/Bucharest:20250311T200000
DTSTAMP:20260422T030020
CREATED:20250303T184306Z
LAST-MODIFIED:20250303T184306Z
UID:10000570-1741717800-1741723200@nvbgy.ro
SUMMARY:Evangélizáció
DESCRIPTION:Evangélizáció a gyülekezetben
URL:https://nvbgy.ro/esemeny/evangelizacio-2/2025-03-11/
ATTACH;FMTTYPE=image/jpeg:https://nvbgy.ro/wp-content/uploads/2022/09/igehirdetesek_hatter1.jpg
END:VEVENT
BEGIN:VEVENT
DTSTART;TZID=Europe/Bucharest:20250312T183000
DTEND;TZID=Europe/Bucharest:20250312T200000
DTSTAMP:20260422T030020
CREATED:20250303T184306Z
LAST-MODIFIED:20250303T184306Z
UID:10000571-1741804200-1741809600@nvbgy.ro
SUMMARY:Evangélizáció
DESCRIPTION:Evangélizáció a gyülekezetben
URL:https://nvbgy.ro/esemeny/evangelizacio-2/2025-03-12/
ATTACH;FMTTYPE=image/jpeg:https://nvbgy.ro/wp-content/uploads/2022/09/igehirdetesek_hatter1.jpg
END:VEVENT
BEGIN:VEVENT
DTSTART;TZID=Europe/Bucharest:20250313T183000
DTEND;TZID=Europe/Bucharest:20250313T200000
DTSTAMP:20260422T030020
CREATED:20250303T184306Z
LAST-MODIFIED:20250303T184306Z
UID:10000572-1741890600-1741896000@nvbgy.ro
SUMMARY:Evangélizáció
DESCRIPTION:Evangélizáció a gyülekezetben
URL:https://nvbgy.ro/esemeny/evangelizacio-2/2025-03-13/
ATTACH;FMTTYPE=image/jpeg:https://nvbgy.ro/wp-content/uploads/2022/09/igehirdetesek_hatter1.jpg
END:VEVENT
BEGIN:VEVENT
DTSTART;TZID=Europe/Bucharest:20250314T183000
DTEND;TZID=Europe/Bucharest:20250314T200000
DTSTAMP:20260422T030020
CREATED:20250303T184306Z
LAST-MODIFIED:20250303T184306Z
UID:10000573-1741977000-1741982400@nvbgy.ro
SUMMARY:Evangélizáció
DESCRIPTION:Evangélizáció a gyülekezetben
URL:https://nvbgy.ro/esemeny/evangelizacio-2/2025-03-14/
ATTACH;FMTTYPE=image/jpeg:https://nvbgy.ro/wp-content/uploads/2022/09/igehirdetesek_hatter1.jpg
END:VEVENT
BEGIN:VEVENT
DTSTART;TZID=Europe/Bucharest:20250316T180000
DTEND;TZID=Europe/Bucharest:20250316T200000
DTSTAMP:20260422T030020
CREATED:20250303T183557Z
LAST-MODIFIED:20250303T183851Z
UID:10000200-1742148000-1742155200@nvbgy.ro
SUMMARY:Evangélizáció
DESCRIPTION:Evangélizáció a gyülekezetben
URL:https://nvbgy.ro/esemeny/evangelizacio-iii-este/
LOCATION:Gyülekezet\, Aleea Strandului nr. 10\, Oradea\, Románia
ATTACH;FMTTYPE=image/jpeg:https://nvbgy.ro/wp-content/uploads/2022/09/igehirdetesek_hatter1.jpg
END:VEVENT
BEGIN:VEVENT
DTSTART;TZID=Europe/Bucharest:20250327T163000
DTEND;TZID=Europe/Bucharest:20250327T210000
DTSTAMP:20260422T030020
CREATED:20240123T094000Z
LAST-MODIFIED:20250218T063330Z
UID:10000098-1743093000-1743109200@nvbgy.ro
SUMMARY:Mozgáskorlátozottak délutánja a gyülekezetnél
DESCRIPTION:Mozgáskorlátozottak és gondozóik találkoznak beszélgetés\, imádkozás\, közösséggyakorlás céljából a gyülekezet körtermében.
URL:https://nvbgy.ro/esemeny/mozgaskorlatozottak-delutanja-a-gyulekezetnel/2025-03-27/
LOCATION:Gyülekezet\, Aleea Strandului nr. 10\, Oradea\, Románia
ATTACH;FMTTYPE=image/jpeg:https://nvbgy.ro/wp-content/uploads/2024/01/mozgasserultek1.jpg
END:VEVENT
END:VCALENDAR