BEGIN:VCALENDAR
VERSION:2.0
PRODID:-//Nagyvárad belvárosi baptista gyülekezet - ECPv6.15.17.1//NONSGML v1.0//EN
CALSCALE:GREGORIAN
METHOD:PUBLISH
X-WR-CALNAME:Nagyvárad belvárosi baptista gyülekezet
X-ORIGINAL-URL:https://nvbgy.ro
X-WR-CALDESC:Események Nagyvárad belvárosi baptista gyülekezet
REFRESH-INTERVAL;VALUE=DURATION:PT1H
X-Robots-Tag:noindex
X-PUBLISHED-TTL:PT1H
BEGIN:VTIMEZONE
TZID:Europe/Bucharest
BEGIN:DAYLIGHT
TZOFFSETFROM:+0200
TZOFFSETTO:+0300
TZNAME:EEST
DTSTART:20240331T010000
END:DAYLIGHT
BEGIN:STANDARD
TZOFFSETFROM:+0300
TZOFFSETTO:+0200
TZNAME:EET
DTSTART:20241027T010000
END:STANDARD
BEGIN:DAYLIGHT
TZOFFSETFROM:+0200
TZOFFSETTO:+0300
TZNAME:EEST
DTSTART:20250330T010000
END:DAYLIGHT
BEGIN:STANDARD
TZOFFSETFROM:+0300
TZOFFSETTO:+0200
TZNAME:EET
DTSTART:20251026T010000
END:STANDARD
BEGIN:DAYLIGHT
TZOFFSETFROM:+0200
TZOFFSETTO:+0300
TZNAME:EEST
DTSTART:20260329T010000
END:DAYLIGHT
BEGIN:STANDARD
TZOFFSETFROM:+0300
TZOFFSETTO:+0200
TZNAME:EET
DTSTART:20261025T010000
END:STANDARD
END:VTIMEZONE
BEGIN:VEVENT
DTSTART;TZID=Europe/Bucharest:20250408T080000
DTEND;TZID=Europe/Bucharest:20250410T170000
DTSTAMP:20260422T010519
CREATED:20250213T153029Z
LAST-MODIFIED:20250213T153029Z
UID:10000166-1744099200-1744304400@nvbgy.ro
SUMMARY:Ifjúsági evangélizáció
DESCRIPTION:Ifjúsági evangélizáció
URL:https://nvbgy.ro/esemeny/ifjusagi-evangelizacio/
LOCATION:Gyülekezet\, Aleea Strandului nr. 10\, Oradea\, Románia
ATTACH;FMTTYPE=image/jpeg:https://nvbgy.ro/wp-content/uploads/2022/09/igehirdetesek_hatter1.jpg
END:VEVENT
BEGIN:VEVENT
DTSTART;TZID=Europe/Bucharest:20250417T080000
DTEND;TZID=Europe/Bucharest:20250417T170000
DTSTAMP:20260422T010519
CREATED:20250213T145106Z
LAST-MODIFIED:20250213T152714Z
UID:10000165-1744876800-1744909200@nvbgy.ro
SUMMARY:Nagycsütörtök
DESCRIPTION:Ünnep: Nagycsütörtök
URL:https://nvbgy.ro/esemeny/nagycsutortok/
LOCATION:Gyülekezet\, Aleea Strandului nr. 10\, Oradea\, Románia
ATTACH;FMTTYPE=image/jpeg:https://nvbgy.ro/wp-content/uploads/2022/09/igehirdetesek_hatter1.jpg
END:VEVENT
BEGIN:VEVENT
DTSTART;TZID=Europe/Bucharest:20250418T080000
DTEND;TZID=Europe/Bucharest:20250418T170000
DTSTAMP:20260422T010519
CREATED:20250213T153110Z
LAST-MODIFIED:20250213T153110Z
UID:10000167-1744963200-1744995600@nvbgy.ro
SUMMARY:Nagypéntek
DESCRIPTION:
URL:https://nvbgy.ro/esemeny/nagypentek-2/
LOCATION:Gyülekezet\, Aleea Strandului nr. 10\, Oradea\, Románia
ATTACH;FMTTYPE=image/jpeg:https://nvbgy.ro/wp-content/uploads/2022/09/igehirdetesek_hatter1.jpg
END:VEVENT
BEGIN:VEVENT
DTSTART;TZID=Europe/Bucharest:20250420T080000
DTEND;TZID=Europe/Bucharest:20250421T170000
DTSTAMP:20260422T010519
CREATED:20250213T153150Z
LAST-MODIFIED:20250213T154844Z
UID:10000168-1745136000-1745254800@nvbgy.ro
SUMMARY:Húsvét
DESCRIPTION:Húsvétvasárnap \nHúsvéthétfő
URL:https://nvbgy.ro/esemeny/husvet-2/
LOCATION:Gyülekezet\, Aleea Strandului nr. 10\, Oradea\, Románia
ATTACH;FMTTYPE=image/jpeg:https://nvbgy.ro/wp-content/uploads/2022/09/igehirdetesek_hatter1.jpg
END:VEVENT
BEGIN:VEVENT
DTSTART;TZID=Europe/Bucharest:20250424T163000
DTEND;TZID=Europe/Bucharest:20250424T210000
DTSTAMP:20260422T010519
CREATED:20240123T094000Z
LAST-MODIFIED:20250218T063330Z
UID:10000099-1745512200-1745528400@nvbgy.ro
SUMMARY:Mozgáskorlátozottak délutánja a gyülekezetnél
DESCRIPTION:Mozgáskorlátozottak és gondozóik találkoznak beszélgetés\, imádkozás\, közösséggyakorlás céljából a gyülekezet körtermében.
URL:https://nvbgy.ro/esemeny/mozgaskorlatozottak-delutanja-a-gyulekezetnel/2025-04-24/
LOCATION:Gyülekezet\, Aleea Strandului nr. 10\, Oradea\, Románia
ATTACH;FMTTYPE=image/jpeg:https://nvbgy.ro/wp-content/uploads/2024/01/mozgasserultek1.jpg
END:VEVENT
BEGIN:VEVENT
DTSTART;TZID=Europe/Bucharest:20250425T100000
DTEND;TZID=Europe/Bucharest:20250427T170000
DTSTAMP:20260422T010519
CREATED:20240531T110032Z
LAST-MODIFIED:20240531T110032Z
UID:10000153-1745575200-1745773200@nvbgy.ro
SUMMARY:Vajta- Reziliencia konferencia nőknek (evangélizációs jelleggel is)
DESCRIPTION:Vajta- Reziliencia konferencia nőknek (evangélizációs jelleggel is)
URL:https://nvbgy.ro/esemeny/vajta-reziliencia-konferencia-noknek-evangelizacios-jelleggel-is/
LOCATION:Gyülekezet\, Aleea Strandului nr. 10\, Oradea\, Románia
ATTACH;FMTTYPE=image/jpeg:https://nvbgy.ro/wp-content/uploads/2022/09/igehirdetesek_hatter1.jpg
END:VEVENT
END:VCALENDAR