BEGIN:VCALENDAR
VERSION:2.0
PRODID:-//Nagyvárad belvárosi baptista gyülekezet - ECPv6.15.17.1//NONSGML v1.0//EN
CALSCALE:GREGORIAN
METHOD:PUBLISH
X-ORIGINAL-URL:https://nvbgy.ro
X-WR-CALDESC:Események Nagyvárad belvárosi baptista gyülekezet
REFRESH-INTERVAL;VALUE=DURATION:PT1H
X-Robots-Tag:noindex
X-PUBLISHED-TTL:PT1H
BEGIN:VTIMEZONE
TZID:Europe/Bucharest
BEGIN:DAYLIGHT
TZOFFSETFROM:+0200
TZOFFSETTO:+0300
TZNAME:EEST
DTSTART:20240331T010000
END:DAYLIGHT
BEGIN:STANDARD
TZOFFSETFROM:+0300
TZOFFSETTO:+0200
TZNAME:EET
DTSTART:20241027T010000
END:STANDARD
BEGIN:DAYLIGHT
TZOFFSETFROM:+0200
TZOFFSETTO:+0300
TZNAME:EEST
DTSTART:20250330T010000
END:DAYLIGHT
BEGIN:STANDARD
TZOFFSETFROM:+0300
TZOFFSETTO:+0200
TZNAME:EET
DTSTART:20251026T010000
END:STANDARD
BEGIN:DAYLIGHT
TZOFFSETFROM:+0200
TZOFFSETTO:+0300
TZNAME:EEST
DTSTART:20260329T010000
END:DAYLIGHT
BEGIN:STANDARD
TZOFFSETFROM:+0300
TZOFFSETTO:+0200
TZNAME:EET
DTSTART:20261025T010000
END:STANDARD
END:VTIMEZONE
BEGIN:VEVENT
DTSTART;TZID=Europe/Bucharest:20250922T100000
DTEND;TZID=Europe/Bucharest:20250922T170000
DTSTAMP:20260421T154858
CREATED:20250213T155608Z
LAST-MODIFIED:20250213T155608Z
UID:10000177-1758535200-1758560400@nvbgy.ro
SUMMARY:Helyi női alkalom
DESCRIPTION:Helyi női alkalom
URL:https://nvbgy.ro/esemeny/helyi-noi-alkalom/
LOCATION:Gyülekezet\, Aleea Strandului nr. 10\, Oradea\, Románia
ATTACH;FMTTYPE=image/jpeg:https://nvbgy.ro/wp-content/uploads/2022/09/igehirdetesek_hatter1.jpg
END:VEVENT
BEGIN:VEVENT
DTSTART;TZID=Europe/Bucharest:20250925T163000
DTEND;TZID=Europe/Bucharest:20250925T210000
DTSTAMP:20260421T154858
CREATED:20240123T094000Z
LAST-MODIFIED:20250218T063330Z
UID:10000104-1758817800-1758834000@nvbgy.ro
SUMMARY:Mozgáskorlátozottak délutánja a gyülekezetnél
DESCRIPTION:Mozgáskorlátozottak és gondozóik találkoznak beszélgetés\, imádkozás\, közösséggyakorlás céljából a gyülekezet körtermében.
URL:https://nvbgy.ro/esemeny/mozgaskorlatozottak-delutanja-a-gyulekezetnel/2025-09-25/
LOCATION:Gyülekezet\, Aleea Strandului nr. 10\, Oradea\, Románia
ATTACH;FMTTYPE=image/jpeg:https://nvbgy.ro/wp-content/uploads/2024/01/mozgasserultek1.jpg
END:VEVENT
END:VCALENDAR