BEGIN:VCALENDAR
VERSION:2.0
PRODID:-//Nagyvárad belvárosi baptista gyülekezet - ECPv6.15.17.1//NONSGML v1.0//EN
CALSCALE:GREGORIAN
METHOD:PUBLISH
X-ORIGINAL-URL:https://nvbgy.ro
X-WR-CALDESC:Események Nagyvárad belvárosi baptista gyülekezet
REFRESH-INTERVAL;VALUE=DURATION:PT1H
X-Robots-Tag:noindex
X-PUBLISHED-TTL:PT1H
BEGIN:VTIMEZONE
TZID:Europe/Bucharest
BEGIN:DAYLIGHT
TZOFFSETFROM:+0200
TZOFFSETTO:+0300
TZNAME:EEST
DTSTART:20230326T010000
END:DAYLIGHT
BEGIN:STANDARD
TZOFFSETFROM:+0300
TZOFFSETTO:+0200
TZNAME:EET
DTSTART:20231029T010000
END:STANDARD
BEGIN:DAYLIGHT
TZOFFSETFROM:+0200
TZOFFSETTO:+0300
TZNAME:EEST
DTSTART:20240331T010000
END:DAYLIGHT
BEGIN:STANDARD
TZOFFSETFROM:+0300
TZOFFSETTO:+0200
TZNAME:EET
DTSTART:20241027T010000
END:STANDARD
BEGIN:DAYLIGHT
TZOFFSETFROM:+0200
TZOFFSETTO:+0300
TZNAME:EEST
DTSTART:20250330T010000
END:DAYLIGHT
BEGIN:STANDARD
TZOFFSETFROM:+0300
TZOFFSETTO:+0200
TZNAME:EET
DTSTART:20251026T010000
END:STANDARD
END:VTIMEZONE
BEGIN:VEVENT
DTSTART;TZID=Europe/Bucharest:20240216T173000
DTEND;TZID=Europe/Bucharest:20240216T210000
DTSTAMP:20260419T181631
CREATED:20240120T174139Z
LAST-MODIFIED:20240121T125332Z
UID:10000003-1708104600-1708117200@nvbgy.ro
SUMMARY:„Folyamatos megújulásban” – házaspárok estéje
DESCRIPTION:„Folyamatos megújulásban” – házaspárok estéje
URL:https://nvbgy.ro/esemeny/folyamatos-megujulasban-hazasparok-esteje/
LOCATION:Gyülekezet\, Aleea Strandului nr. 10\, Oradea\, Románia
ATTACH;FMTTYPE=image/jpeg:https://nvbgy.ro/wp-content/uploads/2024/01/hh11-2020.jpg
END:VEVENT
BEGIN:VEVENT
DTSTART;TZID=Europe/Bucharest:20240128T000000
DTEND;TZID=Europe/Bucharest:20240128T140000
DTSTAMP:20260419T181631
CREATED:20240120T174014Z
LAST-MODIFIED:20240121T125316Z
UID:10000002-1706400000-1706450400@nvbgy.ro
SUMMARY:Gyülekezeti beszámoló közgyűlés
DESCRIPTION:2024. január 28-án\, a délelőtti istentisztelet után kérjük a gyülekezet tagjait visszamaradni\, hogy megtarthassuk gyülekezeti beszámoló közgyűlésünket!
URL:https://nvbgy.ro/esemeny/gyulekezeti-beszamolo-kozgyules/
LOCATION:Gyülekezet\, Aleea Strandului nr. 10\, Oradea\, Románia
ATTACH;FMTTYPE=image/jpeg:https://nvbgy.ro/wp-content/uploads/2024/01/gyulekezet_egyutt1.jpg
END:VEVENT
BEGIN:VEVENT
DTSTART;TZID=Europe/Bucharest:20240125T163000
DTEND;TZID=Europe/Bucharest:20240125T210000
DTSTAMP:20260419T181631
CREATED:20240123T094000Z
LAST-MODIFIED:20250218T063330Z
UID:10000082-1706200200-1706216400@nvbgy.ro
SUMMARY:Mozgáskorlátozottak délutánja a gyülekezetnél
DESCRIPTION:Mozgáskorlátozottak és gondozóik találkoznak beszélgetés\, imádkozás\, közösséggyakorlás céljából a gyülekezet körtermében.
URL:https://nvbgy.ro/esemeny/mozgaskorlatozottak-delutanja-a-gyulekezetnel/2024-01-25/
LOCATION:Gyülekezet\, Aleea Strandului nr. 10\, Oradea\, Románia
ATTACH;FMTTYPE=image/jpeg:https://nvbgy.ro/wp-content/uploads/2024/01/mozgasserultek1.jpg
END:VEVENT
END:VCALENDAR